BEGIN:VCALENDAR
VERSION:2.0
PRODID:icalendar-ruby
CALSCALE:GREGORIAN
METHOD:PUBLISH
BEGIN:VEVENT
DTSTAMP:20260421T121432Z
UID:5-400706@stmarkcliftonheights.org
DTSTART:20261101T153000Z
DTEND:20261101T163000Z
CLASS:PUBLIC
CREATED:20260421T073327
DESCRIPTION:Sunday Worship
LAST-MODIFIED:20260421T073327
LOCATION:
SUMMARY:Sunday Worship
URL;VALUE=URI:https://www.stmarkcliftonheights.org/events/sunday-worship/20
 26-11-01
END:VEVENT
END:VCALENDAR
