BEGIN:VCALENDAR
VERSION:2.0
PRODID:icalendar-ruby
CALSCALE:GREGORIAN
METHOD:PUBLISH
BEGIN:VEVENT
DTSTAMP:20260421T090656Z
UID:5-400443@stmarkcliftonheights.org
DTSTART:20261018T143000Z
DTEND:20261018T153000Z
CLASS:PUBLIC
CREATED:20260420T202700
DESCRIPTION:Sunday Worship
LAST-MODIFIED:20260420T202700
LOCATION:
SUMMARY:Sunday Worship
URL;VALUE=URI:https://www.stmarkcliftonheights.org/events/sunday-worship/20
 26-10-18
END:VEVENT
END:VCALENDAR
